BEGIN:VCALENDAR
METHOD:PUBLISH
PRODID:www-fau-de//Events//DE
VERSION:2.0
BEGIN:VEVENT
SUMMARY:Enough Statistics to Be Dangerous: Your Crash Course in Statis
 tical Modeling (16./18.09.2025)
UID:e4b6-f392-41ba-20180615@www.fau.de
DESCRIPTION:Further information: Seminare und Veranstaltungen | FAU
DTSTART:20250916T090000Z
DTEND:20250916T130000Z
LOCATION:Online
DTSTAMP:20260422T051733Z
END:VEVENT
END:VCALENDAR