BEGIN:VCALENDAR
METHOD:PUBLISH
PRODID:www-fau-de//Events//DE
VERSION:2.0
BEGIN:VEVENT
SUMMARY:FAUnext4all Lunchtime talk mit Jette Petzold\, Hochschule Hof:
  Die HAW-Professur
UID:c2b9-9d04-ba6d-20180631@www.fau.de
DESCRIPTION:Sind Sie an einer wissenschaftlichen Karriere in den Berei
 chen Informatik\, KI\, Ingenieurwissenschaften\, Wirtschaftswissenscha
 ften und Management\, Psychologie\, Materialwissenschaften\, Energiete
 chnik\, Nachhaltigkeitsforschung oder Gesundheitsmanagement interessie
 rt? Oder sind Sie unsicher\, ob eine Karriere an einer HAW das Richtig
 e für Sie ist? Möchten Sie mehr über die Unterstützungsstrukturen 
 erfahren\, die die Hochschule Hof für Sie bereithält? Oder möchten 
 Sie wissen\, wie Sie eine Professur an einer HAW anstreben können? Da
 nn sind Sie hier genau richtig! Die Veranstaltung findet auf Deutsch s
 tatt.
DTSTART:20251110T120000Z
DTEND:20251110T130000Z
LOCATION:Bitte hier anmelden: https://fau.zoom-x.de/meeting/register/i
 nCM_6XYTpSpMAzE20bSIw
DTSTAMP:20260421T132228Z
END:VEVENT
END:VCALENDAR