BEGIN:VCALENDAR
METHOD:PUBLISH
PRODID:www-fau-de//Events//DE
VERSION:2.0
BEGIN:VEVENT
SUMMARY:From Chaos to Clarity - Structuring Information\, Prioritizing
 \, and Managing Time Unter Pressure
UID:23f2-14c6-fa1b-20180657@www.fau.de
DESCRIPTION:Further information: Seminare und Veranstaltungen | FAU
DTSTART:20260109T090000Z
DTEND:20260109T093000Z
LOCATION:Online
DTSTAMP:20260425T192444Z
END:VEVENT
END:VCALENDAR