BEGIN:VCALENDAR
METHOD:PUBLISH
PRODID:www-fau-de//Events//DE
VERSION:2.0
BEGIN:VEVENT
SUMMARY:ThC / CCC-Seminar: Dr. Jannis Erhard\, Novel Reduced Density M
 atrix Functional Theory Methods Informed by Non-commutative Optimal Tr
 ansport
UID:aa50-36c1-19cb-20180728@www.fau.de
DESCRIPTION:Gemeinsames Seminar vom Lehrstuhl für Theoretische Chemie
  und dem Computer-Chemie-Centrum mit Dr. Jannis Erhard (Department of 
 Chemistry\, McMaster University\, Hamilton\, Ontario\, Canada) zum The
 ma Novel Reduced Density Matrix Functional Theory Methods Informed by 
 Non-commutative Optimal Transport. Gäste sind ganz herzlich willkomme
 n!
DTSTART:20250127T171500Z
DTEND:20250127T181500Z
LOCATION:Multimedia-Seminarraum des CCC\, Nägelsbachstr. 25\, Erlangen
DTSTAMP:20260421T095446Z
END:VEVENT
END:VCALENDAR