BEGIN:VCALENDAR
METHOD:PUBLISH
PRODID:www-fau-de//Events//DE
VERSION:2.0
BEGIN:VEVENT
SUMMARY:Institutskolloquium PG: Reconstruction of Past Hydroclimate Va
 riability in Iran from a Multi-Centennial and Multi-parameter Juniper 
 Tree-ring Network. - Mi. 23.07.2025
UID:6d66-4262-780c-20180819@www.fau.de
DESCRIPTION:Nähere Informationen zum Vortragsinhalt finden Sie hier.
DTSTART:20250723T123000Z
DTEND:20250723T140000Z
LOCATION:SR 00.175\, Wetterkreuz 15 – 91058 Erlangen-Tennenlohe
DTSTAMP:20260425T122741Z
END:VEVENT
END:VCALENDAR