BEGIN:VCALENDAR
METHOD:PUBLISH
PRODID:www-fau-de//Events//DE
VERSION:2.0
BEGIN:VEVENT
SUMMARY:Transmission electron microscopy in catalysis research – fro
 m ex situ to operando
UID:9260-f589-3241-20180940@www.fau.de
DESCRIPTION:Das Department Werkstoffwissenschaften lädt herzlich zum 
 ersten Vortrag des Werkstoffwissenschaftlichen Kolloquiums im Winterse
 mester 2025/26 am Dienstag\, den 14. Oktober 2025\, um 16 Uhr ein. Pro
 f. Dr. Patricia Kooyman\, vom Catalysis Institute\, University of Cape
  Town\, Rondebosch\, South Africa\, hält einen Vortrag mit dem Titel:
  “Transmission electron microscopy in catalysis research – from ex
  situ to operando”. Veranstaltungsort: Bernhard-Ilschner-Hörsaal (H
 14)\, Martensstr. 5-7\, Erlangen oder in Zoom: Meeting-ID: 633 2071 13
 59 Zoom code: 380698
DTSTART:20251014T160000Z
DTEND:20251014T180000Z
LOCATION:H14 oder Zoom
DTSTAMP:20260421T072608Z
END:VEVENT
END:VCALENDAR