BEGIN:VCALENDAR
METHOD:PUBLISH
PRODID:www-fau-de//Events//DE
VERSION:2.0
BEGIN:VEVENT
SUMMARY:Project Management - Realize your projects in an efficient and
  resilient way
UID:040000008200E00074C5B7101A82E00800000000909195F75581DC010000000000
 00000010000000E6E703772185E44F8B02859F28AD203D
DESCRIPTION:Futher information: Seminare und Veranstaltungen | FAU
DTSTART:20260227T080000Z
DTEND:20260227T160000Z
LOCATION:Online
DTSTAMP:20260422T034553Z
END:VEVENT
END:VCALENDAR