BEGIN:VCALENDAR
METHOD:PUBLISH
PRODID:www-fau-de//Events//DE
VERSION:2.0
BEGIN:VEVENT
SUMMARY:Der Zeugenbeweis im Verkehrsunfall- und Strafprozess (Präsenz
 veranstaltung)
UID:040000008200E00074C5B7101A82E0080000000020DF49FF864DDC010000000000
 00000010000000AD09727B9FDF7A488967F394D9305A43
DESCRIPTION:Anerkennung gem. § 15 FAO: Verkehrsrecht\, Strafrecht Das
  Seminar umfasst 5 Zeitstunden. Eine Teilnahmebescheinigung wird ertei
 lt. Teilnahmegebühr: 150\,00 € (einschl. Getränke und Seminarunter
 lagen) Referent: Dr. Günter Prechtel Zum Inhalt: In vielen Fällen si
 nd in der Praxis nicht Rechtsfragen für den Ausgang eines Rechtsstrei
 ts entscheidend\, sondern die Beweisbarkeit von Tatsachen. Hierbei kom
 mt dem Zeugenbeweis vor allem im Verkehrsunfall- und Strafprozess beso
 ndere Bedeutung zu. Dieser ist zwar das häufigste\, allerdings bekann
 termaßen auch das unsicherste aller Beweismittel. In der Veranstaltun
 g soll u.a. der Frage nachgegangen werden\, ob und auf welche Weise es
  möglich ist\, Lüge von Wahrheit zu unterscheiden. Zudem werden mög
 liche Fehlerquellen beim Zeugenbeweis aufgezeigt. Neben psychologische
 n Einflüssen bei der Würdigung von Zeugenaussagen wird insbesondere 
 auch die Rechtsprechung des BGH hierzu dargestellt. Grundlage alledem 
 ist indes die Aussage des Zeugen. Ob diese jedoch für den Mandanten g
 ünstige Ergebnisse bringt\, hängt nicht zuletzt von einer geschickte
 n Fragetechnik- und Taktik ab. Einige Videoausschnitte sowie Praxisbei
 spiele tragen zur Veranschaulichung bei. Daneben besteht Gelegenheit z
 um Erfahrungsaustausch und zur Diskussion. Die Teilnehmer erhalten ein
  umfangreiches Skript. Aus dem Inhalt: * Lügen erkennen: Gibt es allg
 emeingültige Lügensignale?/ Alltagstheorien und wissenschaftliche Er
 kenntnisse * Bedeutung nonverbaler Verhaltensweisen * Glaubwürdigkeit
  und Glaubhaftigkeit * Opferzeugen * Polizeibeamte als Zeugen * Falsch
 e Geständnisse * Schätzungen von Zeugen * Typische Fehlerquellen bei
 m Verkehrsunfall * Bedeutung des persönlichen Eindrucks für die Bewe
 iswürdigung * Wahrnehmungsfehler und Erinnerungsirrtümer * Psycholog
 ische Einflüsse bei der Beweiswürdigng * Aussageanalyse nach der Rec
 htsprechung des BGH * Realkennzeichen und Warnsignale * Bedeutung der 
 Protokollierung * Beweiswürdigung in der Praxis * Aufdeckung eines Ko
 mplotts * Fra
DTSTART:20261127T080000Z
DTEND:20261127T140000Z
LOCATION:Juridicum der Universität\, Sitzungssaal 0.283\, Schillerstr
 . 1\, 91054 Erlangen
DTSTAMP:20260424T062157Z
END:VEVENT
END:VCALENDAR